BEGIN:VCALENDAR
VERSION:2.0
PRODID:-//DigiGov Central - ECPv6.15.20//NONSGML v1.0//EN
CALSCALE:GREGORIAN
METHOD:PUBLISH
X-WR-CALNAME:DigiGov Central
X-ORIGINAL-URL:https://digitalgovernmentcentral.com
X-WR-CALDESC:Events for DigiGov Central
REFRESH-INTERVAL;VALUE=DURATION:PT1H
X-Robots-Tag:noindex
X-PUBLISHED-TTL:PT1H
BEGIN:VTIMEZONE
TZID:Asia/Tokyo
BEGIN:STANDARD
TZOFFSETFROM:+0900
TZOFFSETTO:+0900
TZNAME:JST
DTSTART:20240101T000000
END:STANDARD
END:VTIMEZONE
BEGIN:VTIMEZONE
TZID:Asia/Karachi
BEGIN:STANDARD
TZOFFSETFROM:+0500
TZOFFSETTO:+0500
TZNAME:PKT
DTSTART:20240101T000000
END:STANDARD
END:VTIMEZONE
BEGIN:VTIMEZONE
TZID:Europe/Paris
BEGIN:DAYLIGHT
TZOFFSETFROM:+0100
TZOFFSETTO:+0200
TZNAME:CEST
DTSTART:20240331T010000
END:DAYLIGHT
BEGIN:STANDARD
TZOFFSETFROM:+0200
TZOFFSETTO:+0100
TZNAME:CET
DTSTART:20241027T010000
END:STANDARD
BEGIN:DAYLIGHT
TZOFFSETFROM:+0100
TZOFFSETTO:+0200
TZNAME:CEST
DTSTART:20250330T010000
END:DAYLIGHT
BEGIN:STANDARD
TZOFFSETFROM:+0200
TZOFFSETTO:+0100
TZNAME:CET
DTSTART:20251026T010000
END:STANDARD
BEGIN:DAYLIGHT
TZOFFSETFROM:+0100
TZOFFSETTO:+0200
TZNAME:CEST
DTSTART:20260329T010000
END:DAYLIGHT
BEGIN:STANDARD
TZOFFSETFROM:+0200
TZOFFSETTO:+0100
TZNAME:CET
DTSTART:20261025T010000
END:STANDARD
END:VTIMEZONE
BEGIN:VTIMEZONE
TZID:America/Los_Angeles
BEGIN:DAYLIGHT
TZOFFSETFROM:-0800
TZOFFSETTO:-0700
TZNAME:PDT
DTSTART:20240310T100000
END:DAYLIGHT
BEGIN:STANDARD
TZOFFSETFROM:-0700
TZOFFSETTO:-0800
TZNAME:PST
DTSTART:20241103T090000
END:STANDARD
BEGIN:DAYLIGHT
TZOFFSETFROM:-0800
TZOFFSETTO:-0700
TZNAME:PDT
DTSTART:20250309T100000
END:DAYLIGHT
BEGIN:STANDARD
TZOFFSETFROM:-0700
TZOFFSETTO:-0800
TZNAME:PST
DTSTART:20251102T090000
END:STANDARD
BEGIN:DAYLIGHT
TZOFFSETFROM:-0800
TZOFFSETTO:-0700
TZNAME:PDT
DTSTART:20260308T100000
END:DAYLIGHT
BEGIN:STANDARD
TZOFFSETFROM:-0700
TZOFFSETTO:-0800
TZNAME:PST
DTSTART:20261101T090000
END:STANDARD
END:VTIMEZONE
BEGIN:VTIMEZONE
TZID:Europe/Dublin
BEGIN:STANDARD
TZOFFSETFROM:+0000
TZOFFSETTO:+0100
TZNAME:IST
DTSTART:20230326T010000
END:STANDARD
BEGIN:DAYLIGHT
TZOFFSETFROM:+0100
TZOFFSETTO:+0000
TZNAME:GMT
DTSTART:20231029T010000
END:DAYLIGHT
BEGIN:STANDARD
TZOFFSETFROM:+0000
TZOFFSETTO:+0100
TZNAME:IST
DTSTART:20240331T010000
END:STANDARD
BEGIN:DAYLIGHT
TZOFFSETFROM:+0100
TZOFFSETTO:+0000
TZNAME:GMT
DTSTART:20241027T010000
END:DAYLIGHT
BEGIN:STANDARD
TZOFFSETFROM:+0000
TZOFFSETTO:+0100
TZNAME:IST
DTSTART:20250330T010000
END:STANDARD
BEGIN:DAYLIGHT
TZOFFSETFROM:+0100
TZOFFSETTO:+0000
TZNAME:GMT
DTSTART:20251026T010000
END:DAYLIGHT
END:VTIMEZONE
BEGIN:VEVENT
DTSTART;VALUE=DATE:20251110
DTEND;VALUE=DATE:20251112
DTSTAMP:20260422T151032
CREATED:20241224T073814Z
LAST-MODIFIED:20241224T073814Z
UID:42449-1762732800-1762905599@digitalgovernmentcentral.com
SUMMARY:Artificial Intelligence Conference 2025
DESCRIPTION:Artificial Intelligence Conference 2025 is an AI summit\, themed ‘Merging Minds and Machines for a Future of Infinite Possibilities and Innovations’\, brings together global experts to talk about the newest AI technologies. Attendees can join research talks\, workshops\, and hands-on lessons. This global AI Conference meeting will cover subjects like artificial general intelligence\, chatbots\, convolutional neural networks\, and deep fakes.
URL:https://digitalgovernmentcentral.com/event/artificial-intelligence-conference-2025-2/
LOCATION:Osaka\, Japan\, Osaka\, Osaka\, Osaka\, 1000001\, Japan\, Osaka\, Japan
CATEGORIES:3D Printing,Artificial Intelligence, ML & NLP,Autonomous Vehicles,Blockchain,Data,Emerging Tech
ATTACH;FMTTYPE=image/jpeg:https://digitalgovernmentcentral.com/wp-content/uploads/2024/12/Untitled-design-13-1.jpg
END:VEVENT
BEGIN:VEVENT
DTSTART;VALUE=DATE:20250922
DTEND;VALUE=DATE:20250924
DTSTAMP:20260422T151032
CREATED:20241224T072249Z
LAST-MODIFIED:20241224T072249Z
UID:42442-1758499200-1758671999@digitalgovernmentcentral.com
SUMMARY:AI Industry 4.0 Conference 2025
DESCRIPTION:AI Industry 4.0 Conference 2025 is a renowned AI summit that brings together global experts to talk about the newest AI technologies. Attendees can join research talks\, workshops\, and hands-on lessons. This global AI Industry 4.0 summit meeting will cover subjects like artificial general intelligence\, chatbots\, Artificial Intelligence and Robotics for Industry for 4.0.
URL:https://digitalgovernmentcentral.com/event/ai-industry-4-0-conference-2025/
LOCATION:Osaka\, Japan\, Osaka\, Osaka\, Osaka\, 1000001\, Japan\, Osaka\, Japan
CATEGORIES:3D Printing,AI Governance,Artificial Intelligence, ML & NLP,Cyber Security,Education,Emerging Tech
ATTACH;FMTTYPE=image/jpeg:https://digitalgovernmentcentral.com/wp-content/uploads/2024/12/Untitled-design-28.jpg
ORGANIZER;CN="Cognitive Tech Summit":MAILTO:support@stripeconferences.com
END:VEVENT
BEGIN:VEVENT
DTSTART;VALUE=DATE:20250602
DTEND;VALUE=DATE:20250604
DTSTAMP:20260422T151032
CREATED:20241221T074347Z
LAST-MODIFIED:20241221T074347Z
UID:42324-1748822400-1748995199@digitalgovernmentcentral.com
SUMMARY:International Conference on AI in Industry 4.0
DESCRIPTION:The conference will focus on the theme ‘Driving the Future of Industry with AI Innovations’\, bringing together experts\, researchers\, and practitioners to explore the latest advancements and applications of AI in Industry 4.0. Attendees will have the chance to hear from renowned speakers\, participate in workshops\, and engage in panel discussions to address key issues and foster dynamic exchanges of ideas.
URL:https://digitalgovernmentcentral.com/event/international-conference-on-ai-in-industry-4-0/
LOCATION:Tokyo\, Japan\, Tokyo\, Japan
CATEGORIES:3D Printing,AI Governance,Artificial Intelligence, ML & NLP,Autonomous Vehicles,Blockchain,Data,Education
ATTACH;FMTTYPE=image/jpeg:https://digitalgovernmentcentral.com/wp-content/uploads/2024/12/Untitled-design-10-1.jpg
ORGANIZER;CN="Cognitive Tech Summit":MAILTO:support@stripeconferences.com
END:VEVENT
BEGIN:VEVENT
DTSTART;VALUE=DATE:20250325
DTEND;VALUE=DATE:20250326
DTSTAMP:20260422T151032
CREATED:20241227T075537Z
LAST-MODIFIED:20241227T075537Z
UID:42628-1742860800-1742947199@digitalgovernmentcentral.com
SUMMARY:Data Centre LIVE
DESCRIPTION:Save the date for March 25\, 2025\, and join us virtually for Data Centre LIVE – the must-attend global event for data centre\, sustainability and cloud executives. This immersive online conference offers an essential platform to explore the latest innovations\, challenges\, and strategies shaping the future of the data centre industry. \nWith expert-led keynotes\, engaging panel discussions\, and unparalleled networking opportunities\, Data Centre LIVE delivers invaluable insights into critical topics like data centre optimisation\, energy efficiency\, cloud integration\, and next-gen data infrastructure. Don’t miss this chance to connect with industry leaders and gain the knowledge to transform your operations – secure your virtual ticket today.
URL:https://digitalgovernmentcentral.com/event/data-centre-live/
LOCATION:Virtual Conference
CATEGORIES:3D Printing,AI Governance,Artificial Intelligence, ML & NLP,Blockchain,Data,Education,Emerging Tech
ATTACH;FMTTYPE=image/jpeg:https://digitalgovernmentcentral.com/wp-content/uploads/2024/12/Untitled-design-10-2.jpg
END:VEVENT
BEGIN:VEVENT
DTSTART;VALUE=DATE:20250205
DTEND;VALUE=DATE:20250207
DTSTAMP:20260422T151032
CREATED:20241204T084929Z
LAST-MODIFIED:20241204T084929Z
UID:41551-1738713600-1738886399@digitalgovernmentcentral.com
SUMMARY:Edge Computing Global 2025
DESCRIPTION:Join us in London for Edge Computing 2025\, on 5-6 February 2025\, to stay ahead and gain a competitive edge with the latest advanced strategies and trends in edge computing. \n\nEdge Platforms\nDigital Twin\nRobotics & Computer Vision\nFuture Progressions and Accelerating Transformation\nOptimizing Edge Capabilities\nSustainability\nEdge AI Applications\nDevelopments in real-world gaming\nBenefits of edge & cloud
URL:https://digitalgovernmentcentral.com/event/edge-computing-global-2025/
LOCATION:Olympia London\, Hammersmith Rd\, London W14 8UX\, United Kingdom\, London\, United Kingdom
CATEGORIES:3D Printing,Artificial Intelligence, ML & NLP,Cyber Security,Data,Digital Government,Emerging Tech
ATTACH;FMTTYPE=image/jpeg:https://digitalgovernmentcentral.com/wp-content/uploads/2024/12/Untitled-design-5.jpg
END:VEVENT
BEGIN:VEVENT
DTSTART;VALUE=DATE:20250107
DTEND;VALUE=DATE:20250111
DTSTAMP:20260422T151032
CREATED:20240516T141614Z
LAST-MODIFIED:20240516T141614Z
UID:26931-1736208000-1736553599@digitalgovernmentcentral.com
SUMMARY:Showcase Your Tech
DESCRIPTION:Exhibit at CES 2025 \nJoin and Exhibit in the categories of: \n\nAI/Robotics\nGaming\nSmart Home\nMetaverse\nVehicle Tech & Advanced Mobility\nDigital Health\nSports Tech\nSpace Tech\nSmart Cities & Sustainability\nLifestyle\nFinTech\n3D Printng
URL:https://digitalgovernmentcentral.com/event/showcase-your-tech/
LOCATION:Las Vegas Convention Center\, Las Vegas\, NV\, United States
CATEGORIES:3D Printing,Artificial Intelligence, ML & NLP,Emerging Tech,Fintech
ATTACH;FMTTYPE=image/jpeg:https://digitalgovernmentcentral.com/wp-content/uploads/2024/05/22.jpg
END:VEVENT
BEGIN:VEVENT
DTSTART;VALUE=DATE:20240528
DTEND;VALUE=DATE:20240530
DTSTAMP:20260422T151032
CREATED:20240419T063348Z
LAST-MODIFIED:20240419T063414Z
UID:24770-1716854400-1717027199@digitalgovernmentcentral.com
SUMMARY:3D Printing
DESCRIPTION:The 3D Printing Show is being held in the RDS Simmonscourt\, Dublin on 28th –  29th May 2024. \nThe 3D Printing Show is the largest professional 3D printing show and additive manufacturing conference and expo in Ireland As an attendee\, you’ll explore the business applications of 3D printing through conference sessions led by industry experts\, demonstrations of the latest 3D printers and services\, and programming for designers\, professionals\, and makers. Meet with offer 30 exhibitors and understand how 3D printing is revolutionizing industries including manufacturing\, medicine\, architecture\, aerospace\, and more. \n·Sectors Attending\n·Manufacturing\n·Food\n·Health\n·Construction\n·Aerospace\n·And more… \nWhy Attend \n·Educational seminars on the latest industry issues\n·Key insights from industry thought leaders & service providers\n·First-hand case studies from leading companies that are leading the way is using 3D printing\n·Hands-on demonstrations of the latest solutions in the technology showcase\n·Excellent networking opportunities with peers throughout the day\n·Meet over 50 exhibitors that can meet your needs
URL:https://digitalgovernmentcentral.com/event/3d-printing/
LOCATION:RDS Simmonscourt\, Dublin\, Ireland
CATEGORIES:3D Printing
ATTACH;FMTTYPE=image/jpeg:https://digitalgovernmentcentral.com/wp-content/uploads/2024/04/e3-13.jpg
END:VEVENT
END:VCALENDAR