BEGIN:VCALENDAR
VERSION:2.0
PRODID:-//DigiGov Central - ECPv6.15.20//NONSGML v1.0//EN
CALSCALE:GREGORIAN
METHOD:PUBLISH
X-WR-CALNAME:DigiGov Central
X-ORIGINAL-URL:https://digitalgovernmentcentral.com
X-WR-CALDESC:Events for DigiGov Central
REFRESH-INTERVAL;VALUE=DURATION:PT1H
X-Robots-Tag:noindex
X-PUBLISHED-TTL:PT1H
BEGIN:VTIMEZONE
TZID:UTC
BEGIN:STANDARD
TZOFFSETFROM:+0000
TZOFFSETTO:+0000
TZNAME:UTC
DTSTART:20230101T000000
END:STANDARD
END:VTIMEZONE
BEGIN:VTIMEZONE
TZID:Asia/Dubai
BEGIN:STANDARD
TZOFFSETFROM:+0400
TZOFFSETTO:+0400
TZNAME:+04
DTSTART:20230101T000000
END:STANDARD
END:VTIMEZONE
BEGIN:VEVENT
DTSTART;VALUE=DATE:20240925
DTEND;VALUE=DATE:20240926
DTSTAMP:20260422T150624
CREATED:20240425T072318Z
LAST-MODIFIED:20240425T072318Z
UID:25197-1727222400-1727308799@digitalgovernmentcentral.com
SUMMARY:Fintech 2024
DESCRIPTION:Amidst one of the most turbulent periods in modern history\, the Summit will consider the role of financial innovation in the socio-economic recovery. \nThe pandemic dramatically accelerated the shift to mobile banking\, digital channels and cashless payments systems and increased engagement with a range of Fintech services. But it also highlighted the fragility of our economic system\, and the crucial requirement for fast\, frictionless finance. \nThe conference will reflect on the evolution of financial technology against this backdrop of volatility; considering the key trends\, challenges and market disruptions\, and discussing the opportunity for Fintech to help customers manage the cost-of-living crisis and help the country to build back better. \n Core conference topics  \n\n\nLandscape: Cost of Living Crisis\, Financial Health\, Sustainability \n\n\nCustomer Strategy: Engagement\, Inclusion\, UX\, Data Insight    \n\n\nEmerging Tech: Advanced Analytics\, AI\, ML\, RPA\, Blockchain\, Mobile \n\n\nRegulation: GDPR\, MiFID II\, PSD2\, Open Banking \n\n\nInfrastructure: IT\, Security\, Digitalization\, Cloud\, Mobile\, XaaS
URL:https://digitalgovernmentcentral.com/event/fintech-2024/
LOCATION:Dynamic Earth\, Edinburgh\, United Kingdom
CATEGORIES:Financial Technology
ATTACH;FMTTYPE=image/jpeg:https://digitalgovernmentcentral.com/wp-content/uploads/2024/04/te2.jpg
END:VEVENT
BEGIN:VEVENT
DTSTART;VALUE=DATE:20240925
DTEND;VALUE=DATE:20240926
DTSTAMP:20260422T150624
CREATED:20240425T071956Z
LAST-MODIFIED:20240425T071956Z
UID:25194-1727222400-1727308799@digitalgovernmentcentral.com
SUMMARY:Scottish Financial Technology Awards 2024
DESCRIPTION:An evening to celebrate the development of the Scottish Financial Technology ecosystem\, with a series of awards categories designed to recognize outstanding individual and organizational achievements within the sector. \n\nA series of 13 awards is available for entry and sponsorship by Financial Services and Fintech companies based in Scotland. 
URL:https://digitalgovernmentcentral.com/event/scottish-financial-technology-awards-2024/
LOCATION:Sheraton Grand Hotel & Spa\, Edinburgh\, Edinburgh\, United Kingdom
CATEGORIES:Financial Technology
ATTACH;FMTTYPE=image/jpeg:https://digitalgovernmentcentral.com/wp-content/uploads/2024/04/te1.jpg
END:VEVENT
BEGIN:VEVENT
DTSTART;VALUE=DATE:20240506
DTEND;VALUE=DATE:20240508
DTSTAMP:20260422T150624
CREATED:20240426T065505Z
LAST-MODIFIED:20240426T065505Z
UID:25391-1714953600-1715126399@digitalgovernmentcentral.com
SUMMARY:Dubai Fintech Summit
DESCRIPTION:Experience the pulse of financial innovation at Dubai FinTech Summit 2024. Spanning five dynamic stages\, including three plenary arenas and two innovation platforms\, DFS assembles the brightest minds to dissect the most pressing topics in finance today. Engage with over 300 luminaries\, including central bank governors and C-suite leaders from top global institutions\, as they navigate through core themes of Innovation\, Inclusion\, Impact\, Investment\, and Integration. \nDiscover the future as we explore everything from AI and blockchain to sustainable investing and digital economies. Each session promises a gateway to the next wave of financial transformation.
URL:https://digitalgovernmentcentral.com/event/dubai-fintech-summit/
LOCATION:Madinat Jumeirah\, Dubai\, United Arab Emirates
CATEGORIES:Financial Technology
ATTACH;FMTTYPE=image/jpeg:https://digitalgovernmentcentral.com/wp-content/uploads/2024/04/e1-21.jpg
END:VEVENT
END:VCALENDAR